Workbook
Name Est: [1]Aux!$B$3:$B$4
Name Homologado: '[2]Base '!$D$3:$D$4

Sheet Institucional
B2: Historia | D2: Faturamento/2019 | E2: Faturamento/2020 | F2: Faturamento/2020
B3: Belliz | C3: Lucro real
B4: Maestral | C4: Lucro real

Sheet Inform. Comerciais
D1: FORMULÁRIO
D2: RFP - Request For Proposal | K2: IDENTIFICAÇÃO
K3: FOR-COMP-002
K4: Versão
K5: 1
B7: SC FLUIG Nº | C7: 00000 | D7: DT EMISSÃO: | E7: =TODAY() -> 45106
B9: Nome do Projeto
B10: Depto. Compras | D10: Tel:
B11: Depto. Responsável | D11: Tel:
B12: Classificação do Projeto:
B14: FATURAMENTO E ENTREGA | D14: 2
B15: Razão Social: | C15: =VLOOKUP($D$14,Aux!$B$2:$I$5,2,0) -> BELLIZ INDÚSTRIA COMÉRCIO IMPORTAÇÃO E EXPORTAÇÃO EIRELI
B16: CNPJ: | C16: =VLOOKUP($D$14,Aux!$B$2:$I$5,3,0) -> 06.940.040/0002-80
B17: Insc.Estadual: | C17: =VLOOKUP($D$14,Aux!$B$2:$I$5,4,0) -> ISENTO
B18: End.: | C18: =VLOOKUP($D$14,Aux!$B$2:$I$5,5,0) -> AV. PRESIDENTEJUSCELINO KUBITSCHEK, 28 - cj 51
B19: Bairro | C19: =VLOOKUP($D$14,Aux!$B$2:$I$5,6,0) -> ITAIM BIBI
B20: Cidade | C20: =VLOOKUP($D$14,Aux!$B$2:$I$5,7,0) -> SÃO PAULO
B21: CEP: | C21: =VLOOKUP($D$14,Aux!$B$2:$I$5,8,0) -> 04543-000
B24: Cronograma
B25: Detalhamento do processo
B26: Processo de Seleção | D26: Responsável | F26: Data - inicio | G26: Duração | H26: Data -Término
B27: Envio da RFQ | D27: Empresa | F27: 44593 | G27: 1 | H27: =F27+G27 -> 44594
B28: Confirmação de recebimento | D28: Proponentes | F28: =H27 -> 44594 | G28: 1 | H28: =F28+G28 -> 44595
B29: Dúvidas sobre a RFQ | D29: Proponentes | F29: =H28 -> 44595 | G29: 3 | H29: =F29+G29 -> 44598
B30: Respostas sobre as dúvidas | D30: Empresa | F30: =H29 -> 44598 | G30: 1 | H30: =F30+G30 -> 44599
B31: Envio da Proposta | D31: Proponentes | F31: =H30 -> 44599 | G31: 2 | H31: =F31+G31 -> 44601
B32: Envio da documentação obrigatória | D32: Proponentes | F32: =H31 -> 44601 | G32: 3 | H32: =F32+G32 -> 44604
B33: Escolha dos candidatos aptos | D33: Empresa | F33: =H32 -> 44604 | G33: 2 | H33: =F33+G33 -> 44606
B34: Visitação as plantas | D34: Proponentes | F34: =H33 -> 44606 | G34: 1 | H34: =F34+G34 -> 44607
B35: Confirmação do valor orçado ou redução decorrente da visitação | D35: Proponentes | F35: =H34 -> 44607 | G35: 2 | H35: =F35+G35 -> 44609
B36: Processo Final | D36: Responsável | F36: Data - inicio | H36: Data -Término
B37: Visitação aos finalistas e clientes* | D37: Empresa | F37: =H35 -> 44609 | G37: 2 | H37: =F37+G37 -> 44611
B38: Início das negociações** | D38: Empresa / Proponentes | F38: =H37 -> 44611 | G38: 3 | H38: =F38+G38 -> 44614
B39: Início do processo de implantação | D39: Empresa / Proponentes | F39: =H38 -> 44614 | G39: 2 | H39: =F39+G39 -> 44616
B40: Início da prestação do serviço | D40: Contratada | F40: =H39 -> 44616 | G40: 1 | H40: =F40+G40 -> 44617
B41: Início do processo de implantação | D41: Empresa / Proponentes | F41: =H40 -> 44617 | G41: 2 | H41: =F41+G41 -> 44619
B42: Início da prestação do serviço | D42: Contratada | F42: =H41 -> 44619 | G42: 3 | H42: =F42+G42 -> 44622
G43: 44593
G44: =H42 -> 44622
B65: Formato das propostas
...

Sheet Escopo técnico
B3: INTRODUÇÃO
B4: Descrever o contexto geral da aquisição.
B11: ESCOPO
B12: Definições de Escopo
B13: Delimitar o que faz parte do produto a ser gerado e que trabalho será realizado.
B18: Restrições
B19: Descrever tudo que limita o projeto.
B23: RECURSOS NECESSÁRIOS
B24: Descrição dos recursos necessários e das localidades onde serão executados os trabalhos.
B30: CRITÉRIOS DE AVALIAÇÃO
B31: Os critérios sob os quais o fornecedor será avaliado
B33: ID | C33: CRITÉRIO | F33: DESCRIÇÃO | I33: MÉTRICA
B34: 1
B35: 2
B36: 3
B37: 4
B38: 5
B39: 6
B40: 7
B41: 8
B42: 9
B43: 10
B46: Modelo de Precificação
B47: DESCRIÇÃO DO ITEM | G47: VALOR UNITÁRIO | I47: QUANTIDADE | J47: COMENTÁRIOS / RECOMENDAÇÕES | N47: Nota/Critério
G48: 0
G49: 0
G50: 0
G51: 0
G52: 0
G53: 0
G54: 0
G55: 0
G56: 0
G57: 0
G58: 0
G59: 0
... G70: 0
B72: CONDIÇÕES DE CONTRATAÇÃO
B73: Descrever informações sobre propriedade, regras contratuais, garantia, multas, bônus e responsabilidades, disputa e foro.

Sheet Mapa
B2: Fornecedor
B3: Fone
B4: Contato
B5: Homologado
B6: Cód. | C6: Descrição | D6: Qtde | E6: Preço unitário | F6: Total | G6: Prazo de entrega | H6: Descrição | I6: Qtde | J6: Preço unitário | K6: Total | L6: Prazo de entrega | M6: Descrição | N6: Qtde | O6: Preço unitário | P6: Total | Q6: Prazo de entrega
B7: 1 | C7: Teste | D7: 0 | E7: 0 | F7: =A7*B7 -> 0 | H7: =C7 -> Teste | I7: 0 | J7: 0 | K7: =F7*G7 -> 0 | M7: =C7 -> Teste | N7: 0 | O7: 0 | P7: =K7*L7 -> 0
B8: =B7+1 -> 2 | D8: 0 | E8: 0 | F8: =A8*B8 -> 0 | H8: =C8 -> 0 | I8: 0 | J8: 0 | K8: =F8*G8 -> 0 | M8: =C8 -> 0 | N8: 0 | O8: 0 | P8: =K8*L8 -> 0
B9: =B8+1 -> 3 | D9: 0 | E9: 0 | F9: =A9*B9 -> 0 | H9: =C9 -> 0 | I9: 0 | J9: 0 | K9: =F9*G9 -> 0 | M9: =C9 -> 0 | N9: 0 | O9: 0 | P9: =K9*L9 -> 0
B10: =B9+1 -> 4 | D10: 0 | E10: 0 | F10: =A10*B10 -> 0 | H10: =C10 -> 0 | I10: 0 | J10: 0 | K10: =F10*G10 -> 0 | M10: =C10 -> 0 | N10: 0 | O10: 0 | P10: =K10*L10 -> 0
B11: =B10+1 -> 5 | D11: 0 | E11: 0 | F11: =A11*B11 -> 0 | H11: =C11 -> 0 | I11: 0 | J11: 0 | K11: =F11*G11 -> 0 | M11: =C11 -> 0 | N11: 0 | O11: 0 | P11: =K11*L11 -> 0
B12: =B11+1 -> 6 | D12: 0 | E12: 0 | F12: =A12*B12 -> 0 | H12: =C12 -> 0 | I12: 0 | J12: 0 | K12: =F12*G12 -> 0 | M12: =C12 -> 0 | N12: 0 | O12: 0 | P12: =K12*L12 -> 0
B13: =B12+1 -> 7 | D13: 0 | E13: 0 | F13: =A13*B13 -> 0 | H13: =C13 -> 0 | I13: 0 | J13: 0 | K13: =F13*G13 -> 0 | M13: =C13 -> 0 | N13: 0 | O13: 0 | P13: =K13*L13 -> 0
B14: =B13+1 -> 8 | D14: 0 | E14: 0 | F14: =A14*B14 -> 0 | H14: =C14 -> 0 | I14: 0 | J14: 0 | K14: =F14*G14 -> 0 | M14: =C14 -> 0 | N14: 0 | O14: 0 | P14: =K14*L14 -> 0
B15: =B14+1 -> 9 | D15: 0 | E15: 0 | F15: =A15*B15 -> 0 | H15: =C15 -> 0 | I15: 0 | J15: 0 | K15: =F15*G15 -> 0 | M15: =C15 -> 0 | N15: 0 | O15: 0 | P15: =K15*L15 -> 0
B16: =B15+1 -> 10 | D16: 0 | E16: 0 | F16: =A16*B16 -> 0 | H16: =C16 -> 0 | I16: 0 | J16: 0 | K16: =F16*G16 -> 0 | M16: =C16 -> 0 | N16: 0 | O16: 0 | P16: =K16*L16 -> 0
B17: =B16+1 -> 11 | D17: 0 | E17: 0 | F17: =A17*B17 -> 0 | H17: =C17 -> 0 | I17: 0 | J17: 0 | K17: =F17*G17 -> 0 | M17: =C17 -> 0 | N17: 0 | O17: 0 | P17: =K17*L17 -> 0
B18: =B17+1 -> 12 | D18: 0 | E18: 0 | F18: =A18*B18 -> 0 | H18: =C18 -> 0 | I18: 0 | J18: 0 | K18: =F18*G18 -> 0 | M18: =C18 -> 0 | N18: 0 | O18: 0 | P18: =K18*L18 -> 0
B19: =B18+1 -> 13 | D19: 0 | E19: 0 | F19: =A19*B19 -> 0 | H19: =C19 -> 0 | I19: 0 | J19: 0 | K19: =F19*G19 -> 0 | M19: =C19 -> 0 | N19: 0 | O19: 0 | P19: =K19*L19 -> 0
... B21: =B20+1 -> 15 | D21: 0 | E21: 0 | F21: =A21*B21 -> 0 | H21: =C21 -> 0 | I21: 0 | J21: 0 | K21: =F21*G21 -> 0 | M21: =C21 -> 0 | N21: 0 | O21: 0 | P21: =K21*L21 -> 0
B22: Sub-Total | F22: =SUM(F7:F21) -> 0 | H22: Sub-Total | K22: =SUM(K7:K21) -> 0 | M22: Sub-Total | P22: =SUM(P7:P21) -> 0
B23: Frete | F23: 0 | H23: Frete | K23: 0 | M23: Frete | P23: 0
B24: ICMS | D24: Aliq% | E24: 0 | F24: =E24*F22 -> 0 | H24: ICMS | I24: Aliq% | J24: 0 | K24: =J24*K22 -> 0 | M24: ICMS | N24: Aliq% | O24: 0 | P24: =O24*P22 -> 0
B25: IPI | D25: Aliq% | E25: 0 | F25: =E25*F22 -> 0 | H25: IPI | I25: Aliq% | J25: 0 | K25: =J25*K22 -> 0 | M25: IPI | N25: Aliq% | O25: 0 | P25: =O25*P22 -> 0
B26: Total | F26: =SUM(F22:F23) -> 0 | H26: Total | K26: =SUM(K22:K23) -> 0 | M26: Total | P26: =SUM(P22:P23) -> 0
B27: Cond. Pgto | H27: Cond. Pgto | M27: Cond. Pgto
B28: Observações | H28: Observações | M28: Observações

Sheet Aux
B2: Estabelecimento | C2: Razão Social | D2: CNPJ | E2: Insc. Est. | F2: Endereço | G2: Bairro | H2: Cidade | I2: CEP
B3: 1 | C3: BELLIZ INDÚSTRIA COMÉRCIO IMPORTAÇÃO E EXPORTAÇÃO EIRELI | D3: 06.940.040/0001-08 | E3: 082.285.34-9 | F3: AV CIVIT I, 497 - GALPÃO 02 MOD 01 a 04 | G3: CIVIT I | H3: SERRA | I3: 29168-045
B4: 2 | C4: BELLIZ INDÚSTRIA COMÉRCIO IMPORTAÇÃO E EXPORTAÇÃO EIRELI | D4: 06.940.040/0002-80 | E4: ISENTO | F4: AV. PRESIDENTEJUSCELINO KUBITSCHEK, 28 - cj 51 | G4: ITAIM BIBI | H4: SÃO PAULO | I4: 04543-000
B5: 100 | C5: MAESTRAL COMERCIAL IMPORTADORA E EXPORTADORA EIRELI | D5: 11.670.333/0001-44 | E5: 407502050116 | F5: AV. ANTÔNIO FREDERICO OZANAM, 11.200 - GALPÃO B3 COND. BANDEIRANTES BUSINESS PARK | G5: DISTRITO INDUSTRIAL | H5: JUNDIAÍ | I5: 13213-030
