Workbook
Name Est: Aux!$B$3:$B$4
Name Homologado: '[1]Base '!$D$3:$D$4

Sheet RFQ
C1: FORMULÁRIO | R1: Identificação
C2: RFQ - Request For Quotation
R3: FOR-COMP-003
R4: Versão
R5: 1
B8: SC FLUIG Nº | C8: DT EMISSÃO: | D8: =TODAY() -> 45106 | E8: Prazo para entrega da cotação | F8: =TODAY() -> 45106
B10: CONTATOS
B11: Para questões comerceiais:
B12: Nome: | D12: Email: | F12: Tel.:
B13: Para dúvidas tecnicas:
B14: Nome: | D14: Email: | F14: Tel.:
B17: 1. CONDIÇÕES COMERCIAIS
B19: As cotações DEVERÃO ser enviadas com as seguintes informações:
B20: • Frete FOB ou CIF (Caso de CIF destacar o valor)
B21: • NCM
B22: • ICMS, IPI, PIS , CONFINS
B23: • Prazo e Forma de Pagamento
B24: • Prazo de Entrega
B25: • Garantia ( quando aplicável )
B27: 2. DADOS DE FATURAMENTO E ENTREGA
E29: 1
B31: Razão Social: | C31: =IFERROR(VLOOKUP($E$29,Aux!$B$2:$I$4,2,0),"") -> BELLIZ INDÚSTRIA COMÉRCIO IMPORTAÇÃO E EXPORTAÇÃO EIRELI
B32: CNPJ: | C32: =IFERROR(VLOOKUP($E$29,Aux!$B$2:$I$4,3,0),"") -> 06.940.040/0001-08
B33: Insc.Estadual: | C33: =IFERROR(VLOOKUP($E$29,Aux!$B$2:$I$4,4,0),"") -> 082.285.34-9
B34: End.: | C34: =IFERROR(VLOOKUP($E$29,Aux!$B$2:$I$4,5,0),"") -> AV CIVIT I, 497 - GALPÃO 02 MOD 01 a 04
B35: Bairro | C35: =IFERROR(VLOOKUP($E$29,Aux!$B$2:$I$4,6,0),"") -> CIVIT I
B36: Cidade | C36: =IFERROR(VLOOKUP($E$29,Aux!$B$2:$I$4,7,0),"") -> SERRA
B37: CEP: | C37: =IFERROR(VLOOKUP($E$29,Aux!$B$2:$I$4,8,0),"") -> 29168-045
B41: 3. DOCUMENTOS REQUERIDOS:
C43: Foto do Produto
C44: Catálogo Técnico
C45: Manual de Instrução
C46: PIT - Plano de Inspeção e Testes
C47: Treinamento
C48: Garantia Especial | E48: Se Sim, Detalhe:
C49: Outros
B53: 4. DESCRIÇÃO DETALHADA: MATERIAIS / SERVIÇOS
B55: Estoque/ Utilização Imediata | C55: Item | D55: Quantidade | E55: Unidade de Medida | F55: Descrição DETALHADA | N55: Marca | O55: Part Number (cód específico do equipamento) | Q55: Observação

Sheet Aux
B2: Estabelecimento | C2: Razão Social | D2: CNPJ | E2: Insc. Est. | F2: Endereço | G2: Bairro | H2: Cidade | I2: CEP
B3: 1 | C3: BELLIZ INDÚSTRIA COMÉRCIO IMPORTAÇÃO E EXPORTAÇÃO EIRELI | D3: 06.940.040/0001-08 | E3: 082.285.34-9 | F3: AV CIVIT I, 497 - GALPÃO 02 MOD 01 a 04 | G3: CIVIT I | H3: SERRA | I3: 29168-045
B4: 2 | C4: BELLIZ INDÚSTRIA COMÉRCIO IMPORTAÇÃO E EXPORTAÇÃO EIRELI | D4: 06.940.040/0002-80 | E4: ISENTO | F4: AV. PRESIDENTEJUSCELINO KUBITSCHEK, 28 - cj 51 | G4: ITAIM BIBI | H4: SÃO PAULO | I4: 04543-000

Sheet Mapa
C2: Fornecedor
C3: Fone
C4: Contato
C5: Homologado
B6: Cód. | C6: Descrição | D6: Qtde | E6: Preço unitário | F6: Total | G6: Qtde | H6: Preço unitário | I6: Total | J6: Qtde | K6: Preço unitário | L6: Total
B7: 1 | D7: 0 | E7: 0 | F7: =D7*E7 -> 0 | G7: =D7 -> 0 | H7: 0 | I7: =G7*H7 -> 0 | J7: =D7 -> 0 | K7: 0 | L7: =J7*K7 -> 0
B8: =B7+1 -> 2 | D8: 0 | E8: 0 | F8: =D8*E8 -> 0 | G8: =D8 -> 0 | H8: 0 | I8: =G8*H8 -> 0 | J8: =D8 -> 0 | K8: 0 | L8: =J8*K8 -> 0
B9: =B8+1 -> 3 | D9: 0 | E9: 0 | F9: =D9*E9 -> 0 | G9: =D9 -> 0 | H9: 0 | I9: =G9*H9 -> 0 | J9: =D9 -> 0 | K9: 0 | L9: =J9*K9 -> 0
B10: =B9+1 -> 4 | D10: 0 | E10: 0 | F10: =D10*E10 -> 0 | G10: =D10 -> 0 | H10: 0 | I10: =G10*H10 -> 0 | J10: =D10 -> 0 | K10: 0 | L10: =J10*K10 -> 0
B11: =B10+1 -> 5 | D11: 0 | E11: 0 | F11: =D11*E11 -> 0 | G11: =D11 -> 0 | H11: 0 | I11: =G11*H11 -> 0 | J11: =D11 -> 0 | K11: 0 | L11: =J11*K11 -> 0
B12: =B11+1 -> 6 | D12: 0 | E12: 0 | F12: =D12*E12 -> 0 | G12: =D12 -> 0 | H12: 0 | I12: =G12*H12 -> 0 | J12: =D12 -> 0 | K12: 0 | L12: =J12*K12 -> 0
B13: =B12+1 -> 7 | D13: 0 | E13: 0 | F13: =D13*E13 -> 0 | G13: =D13 -> 0 | H13: 0 | I13: =G13*H13 -> 0 | J13: =D13 -> 0 | K13: 0 | L13: =J13*K13 -> 0
B14: =B13+1 -> 8 | D14: 0 | E14: 0 | F14: =D14*E14 -> 0 | G14: =D14 -> 0 | H14: 0 | I14: =G14*H14 -> 0 | J14: =D14 -> 0 | K14: 0 | L14: =J14*K14 -> 0
B15: =B14+1 -> 9 | D15: 0 | E15: 0 | F15: =D15*E15 -> 0 | G15: =D15 -> 0 | H15: 0 | I15: =G15*H15 -> 0 | J15: =D15 -> 0 | K15: 0 | L15: =J15*K15 -> 0
B16: =B15+1 -> 10 | D16: 0 | E16: 0 | F16: =D16*E16 -> 0 | G16: =D16 -> 0 | H16: 0 | I16: =G16*H16 -> 0 | J16: =D16 -> 0 | K16: 0 | L16: =J16*K16 -> 0
B17: =B16+1 -> 11 | D17: 0 | E17: 0 | F17: =D17*E17 -> 0 | G17: =D17 -> 0 | H17: 0 | I17: =G17*H17 -> 0 | J17: =D17 -> 0 | K17: 0 | L17: =J17*K17 -> 0
B18: =B17+1 -> 12 | D18: 0 | E18: 0 | F18: =D18*E18 -> 0 | G18: =D18 -> 0 | H18: 0 | I18: =G18*H18 -> 0 | J18: =D18 -> 0 | K18: 0 | L18: =J18*K18 -> 0
B19: =B18+1 -> 13 | D19: 0 | E19: 0 | F19: =D19*E19 -> 0 | G19: =D19 -> 0 | H19: 0 | I19: =G19*H19 -> 0 | J19: =D19 -> 0 | K19: 0 | L19: =J19*K19 -> 0
... B21: =B20+1 -> 15 | D21: 0 | E21: 0 | F21: =D21*E21 -> 0 | G21: =D21 -> 0 | H21: 0 | I21: =G21*H21 -> 0 | J21: =D21 -> 0 | K21: 0 | L21: =J21*K21 -> 0
B22: Sub-Total | F22: =SUM(F7:F21) -> 0 | I22: =SUM(I7:I21) -> 0 | L22: =SUM(L7:L21) -> 0
B23: Frete | F23: 0 | I23: 0 | L23: 0
B24: Total | F24: =SUM(F22:F23) -> 0 | I24: =SUM(I22:I23) -> 0 | L24: =SUM(L22:L23) -> 0
B25: Observações
