Workbook

Sheet PREÇOS
D2: FORMULÁRIO
D3: VIABILIDADE FINANCEIRA - PREÇOS CONCORRÊNCIA | Y3: Identificação
Y4: FOR-MKT-002
Y5: Versão
Y6: 1
B7: PROJETO:
B9: Desenvolvimento Produto | C9: Kess | F9: Concorrentes
B10: Item | C10: =C9 -> Kess | D10: Volume | E10: Preço ml | F10: Concorrente 1 | G10: Volume | H10: Preço ml | I10: Comparativo | J10: Concorrente 2 | K10: Volume | L10: Preço ml | M10: Comparativo | N10: Concorrente 3 | O10: Volume | P10: Preço ml | Q10: Comparativo | R10: Concorrente 4 | S10: Volume | T10: Preço ml | U10: Comparativo | V10: Concorrente 5 | W10: Volume | X10: Preço ml | Y10: Comparativo
E11: =IFERROR(C11/D11,"-") -> - | H11: =IFERROR(F11/G11,"-") -> - | I11: =IFERROR($C11/F11,"-") -> - | L11: =IFERROR(J11/K11,"-") -> - | M11: =IFERROR($C11/J11,"-") -> - | P11: =IFERROR(N11/O11,"-") -> - | Q11: =IFERROR(N11/$C11,"-") -> - | T11: =IFERROR(R11/S11,"-") -> - | U11: =IFERROR(R11/$C11,"-") -> - | X11: =IFERROR(V11/W11,"-") -> - | Y11: =IFERROR(V11/$C11,"-") -> -
E12: =IFERROR(C12/D12,"-") -> - | H12: =IFERROR(F12/G12,"-") -> - | I12: =IFERROR($C12/F12,"-") -> - | L12: =IFERROR(J12/K12,"-") -> - | M12: =IFERROR($C12/J12,"-") -> - | P12: =IFERROR(N12/O12,"-") -> - | Q12: =IFERROR(N12/$C12,"-") -> - | T12: =IFERROR(R12/S12,"-") -> - | U12: =IFERROR(R12/$C12,"-") -> - | X12: =IFERROR(V12/W12,"-") -> - | Y12: =IFERROR(V12/$C12,"-") -> -
E13: =IFERROR(C13/D13,"-") -> - | H13: =IFERROR(F13/G13,"-") -> - | I13: =IFERROR($C13/F13,"-") -> - | L13: =IFERROR(J13/K13,"-") -> - | M13: =IFERROR($C13/J13,"-") -> - | P13: =IFERROR(N13/O13,"-") -> - | Q13: =IFERROR(N13/$C13,"-") -> - | T13: =IFERROR(R13/S13,"-") -> - | U13: =IFERROR(R13/$C13,"-") -> - | X13: =IFERROR(V13/W13,"-") -> - | Y13: =IFERROR(V13/$C13,"-") -> -
E14: =IFERROR(C14/D14,"-") -> - | H14: =IFERROR(F14/G14,"-") -> - | I14: =IFERROR($C14/F14,"-") -> - | L14: =IFERROR(J14/K14,"-") -> - | M14: =IFERROR($C14/J14,"-") -> - | P14: =IFERROR(N14/O14,"-") -> - | Q14: =IFERROR(N14/$C14,"-") -> - | T14: =IFERROR(R14/S14,"-") -> - | U14: =IFERROR(R14/$C14,"-") -> - | X14: =IFERROR(V14/W14,"-") -> - | Y14: =IFERROR(V14/$C14,"-") -> -
E15: =IFERROR(C15/D15,"-") -> - | H15: =IFERROR(F15/G15,"-") -> - | I15: =IFERROR($C15/F15,"-") -> - | L15: =IFERROR(J15/K15,"-") -> - | M15: =IFERROR($C15/J15,"-") -> - | P15: =IFERROR(N15/O15,"-") -> - | Q15: =IFERROR(N15/$C15,"-") -> - | T15: =IFERROR(R15/S15,"-") -> - | U15: =IFERROR(R15/$C15,"-") -> - | X15: =IFERROR(V15/W15,"-") -> - | Y15: =IFERROR(V15/$C15,"-") -> -
E16: =IFERROR(C16/D16,"-") -> - | H16: =IFERROR(F16/G16,"-") -> - | I16: =IFERROR($C16/F16,"-") -> - | L16: =IFERROR(J16/K16,"-") -> - | M16: =IFERROR($C16/J16,"-") -> - | P16: =IFERROR(N16/O16,"-") -> - | Q16: =IFERROR(N16/$C16,"-") -> - | T16: =IFERROR(R16/S16,"-") -> - | U16: =IFERROR(R16/$C16,"-") -> - | X16: =IFERROR(V16/W16,"-") -> - | Y16: =IFERROR(V16/$C16,"-") -> -
E17: =IFERROR(C17/D17,"-") -> - | H17: =IFERROR(F17/G17,"-") -> - | I17: =IFERROR($C17/F17,"-") -> - | L17: =IFERROR(J17/K17,"-") -> - | M17: =IFERROR($C17/J17,"-") -> - | P17: =IFERROR(N17/O17,"-") -> - | Q17: =IFERROR(N17/$C17,"-") -> - | T17: =IFERROR(R17/S17,"-") -> - | U17: =IFERROR(R17/$C17,"-") -> - | X17: =IFERROR(V17/W17,"-") -> - | Y17: =IFERROR(V17/$C17,"-") -> -
E18: =IFERROR(C18/D18,"-") -> - | H18: =IFERROR(F18/G18,"-") -> - | I18: =IFERROR($C18/F18,"-") -> - | L18: =IFERROR(J18/K18,"-") -> - | M18: =IFERROR($C18/J18,"-") -> - | P18: =IFERROR(N18/O18,"-") -> - | Q18: =IFERROR(N18/$C18,"-") -> - | T18: =IFERROR(R18/S18,"-") -> - | U18: =IFERROR(R18/$C18,"-") -> - | X18: =IFERROR(V18/W18,"-") -> - | Y18: =IFERROR(V18/$C18,"-") -> -
E19: =IFERROR(C19/D19,"-") -> - | H19: =IFERROR(F19/G19,"-") -> - | I19: =IFERROR($C19/F19,"-") -> - | L19: =IFERROR(J19/K19,"-") -> - | M19: =IFERROR($C19/J19,"-") -> - | P19: =IFERROR(N19/O19,"-") -> - | Q19: =IFERROR(N19/$C19,"-") -> - | T19: =IFERROR(R19/S19,"-") -> - | U19: =IFERROR(R19/$C19,"-") -> - | X19: =IFERROR(V19/W19,"-") -> - | Y19: =IFERROR(V19/$C19,"-") -> -
E20: =IFERROR(C20/D20,"-") -> - | H20: =IFERROR(F20/G20,"-") -> - | I20: =IFERROR($C20/F20,"-") -> - | L20: =IFERROR(J20/K20,"-") -> - | M20: =IFERROR($C20/J20,"-") -> - | P20: =IFERROR(N20/O20,"-") -> - | Q20: =IFERROR(N20/$C20,"-") -> - | T20: =IFERROR(R20/S20,"-") -> - | U20: =IFERROR(R20/$C20,"-") -> - | X20: =IFERROR(V20/W20,"-") -> - | Y20: =IFERROR(V20/$C20,"-") -> -
E21: =IFERROR(C21/D21,"-") -> - | H21: =IFERROR(F21/G21,"-") -> - | I21: =IFERROR($C21/F21,"-") -> - | L21: =IFERROR(J21/K21,"-") -> - | M21: =IFERROR($C21/J21,"-") -> - | P21: =IFERROR(N21/O21,"-") -> - | Q21: =IFERROR(N21/$C21,"-") -> - | T21: =IFERROR(R21/S21,"-") -> - | U21: =IFERROR(R21/$C21,"-") -> - | X21: =IFERROR(V21/W21,"-") -> - | Y21: =IFERROR(V21/$C21,"-") -> -
E22: =IFERROR(C22/D22,"-") -> - | H22: =IFERROR(F22/G22,"-") -> - | I22: =IFERROR($C22/F22,"-") -> - | L22: =IFERROR(J22/K22,"-") -> - | M22: =IFERROR($C22/J22,"-") -> - | P22: =IFERROR(N22/O22,"-") -> - | Q22: =IFERROR(N22/$C22,"-") -> - | T22: =IFERROR(R22/S22,"-") -> - | U22: =IFERROR(R22/$C22,"-") -> - | X22: =IFERROR(V22/W22,"-") -> - | Y22: =IFERROR(V22/$C22,"-") -> -
... E31: =IFERROR(C31/D31,"-") -> - | H31: =IFERROR(F31/G31,"-") -> - | I31: =IFERROR($C31/F31,"-") -> - | L31: =IFERROR(J31/K31,"-") -> - | M31: =IFERROR($C31/J31,"-") -> - | P31: =IFERROR(N31/O31,"-") -> - | Q31: =IFERROR(N31/$C31,"-") -> - | T31: =IFERROR(R31/S31,"-") -> - | U31: =IFERROR(R31/$C31,"-") -> - | X31: =IFERROR(V31/W31,"-") -> - | Y31: =IFERROR(V31/$C31,"-") -> -

Sheet MEDIDAS
D2: FORMULÁRIO
D3: VIABILIDADE FINANCEIRA - MEDIDAS | R3: Identificação
R4: FOR-MKT-002
R5: Versão
R6: 1
B7: PROJETO: | C7: =IF(PREÇOS!C7="","-",PREÇOS!C7) -> -
B9: Item | C9: Volume | D9: QTD. Coletivo | E9: Altura | F9: Largura | G9: Comprimento | H9: Peso Líquido | I9: Peso Bruto | J9: Volume cm³ | K9: Altura | L9: Largura | M9: Comprimento | N9: Peso Líquido | O9: Peso Bruto | P9: Volume | Q9: Total Caixa Master | R9: Arredondamento
B10: =IF(PREÇOS!B11="","-",PREÇOS!B11) -> - | J10: =IF(E10="","-",E10*F10*G10) -> - | P10: =IF(K10="","-",K10*L10*M10) -> - | Q10: =IF(P10="-","-",P10/J10*D10) -> -
B11: =IF(PREÇOS!B12="","-",PREÇOS!B12) -> - | J11: =IF(E11="","-",E11*F11*G11) -> - | P11: =IF(K11="","-",K11*L11*M11) -> - | Q11: =IF(P11="-","-",P11/J11*D11) -> -
B12: =IF(PREÇOS!B13="","-",PREÇOS!B13) -> - | J12: =IF(E12="","-",E12*F12*G12) -> - | P12: =IF(K12="","-",K12*L12*M12) -> - | Q12: =IF(P12="-","-",P12/J12*D12) -> -
B13: =IF(PREÇOS!B14="","-",PREÇOS!B14) -> - | J13: =IF(E13="","-",E13*F13*G13) -> - | P13: =IF(K13="","-",K13*L13*M13) -> - | Q13: =IF(P13="-","-",P13/J13*D13) -> -
B14: =IF(PREÇOS!B15="","-",PREÇOS!B15) -> - | J14: =IF(E14="","-",E14*F14*G14) -> - | P14: =IF(K14="","-",K14*L14*M14) -> - | Q14: =IF(P14="-","-",P14/J14*D14) -> -
B15: =IF(PREÇOS!B16="","-",PREÇOS!B16) -> - | J15: =IF(E15="","-",E15*F15*G15) -> - | P15: =IF(K15="","-",K15*L15*M15) -> - | Q15: =IF(P15="-","-",P15/J15*D15) -> -
B16: =IF(PREÇOS!B17="","-",PREÇOS!B17) -> - | J16: =IF(E16="","-",E16*F16*G16) -> - | P16: =IF(K16="","-",K16*L16*M16) -> - | Q16: =IF(P16="-","-",P16/J16*D16) -> -
B17: =IF(PREÇOS!B18="","-",PREÇOS!B18) -> - | J17: =IF(E17="","-",E17*F17*G17) -> - | P17: =IF(K17="","-",K17*L17*M17) -> - | Q17: =IF(P17="-","-",P17/J17*D17) -> -
B18: =IF(PREÇOS!B19="","-",PREÇOS!B19) -> - | J18: =IF(E18="","-",E18*F18*G18) -> - | P18: =IF(K18="","-",K18*L18*M18) -> - | Q18: =IF(P18="-","-",P18/J18*D18) -> -
B19: =IF(PREÇOS!B20="","-",PREÇOS!B20) -> - | J19: =IF(E19="","-",E19*F19*G19) -> - | P19: =IF(K19="","-",K19*L19*M19) -> - | Q19: =IF(P19="-","-",P19/J19*D19) -> -
B20: =IF(PREÇOS!B21="","-",PREÇOS!B21) -> - | J20: =IF(E20="","-",E20*F20*G20) -> - | P20: =IF(K20="","-",K20*L20*M20) -> - | Q20: =IF(P20="-","-",P20/J20*D20) -> -
B21: =IF(PREÇOS!B22="","-",PREÇOS!B22) -> - | J21: =IF(E21="","-",E21*F21*G21) -> - | P21: =IF(K21="","-",K21*L21*M21) -> - | Q21: =IF(P21="-","-",P21/J21*D21) -> -
... B30: =IF(PREÇOS!B31="","-",PREÇOS!B31) -> - | J30: =IF(E30="","-",E30*F30*G30) -> - | P30: =IF(K30="","-",K30*L30*M30) -> - | Q30: =IF(P30="-","-",P30/J30*D30) -> -

Sheet CMV E VIABILIDADE
D2: FORMULÁRIO
D3: PREVIABILIDADE FINANCEIRA - MEDIDAS | BC3: Identificação
BC4: FOR-MKT-002
BC5: Versão
BC6: 1
B7: PROJETO: | C7: =IF(PREÇOS!C7="","-",PREÇOS!C7) -> -
O8: FOB | S8: 0.02 | U8: PREÇO PDV - SP | AF8: IMPOSTOS | AO8: INFORMAÇÕES VIABILIDADE | AT8: VISÃO VIABILIDADE
B9: Cód. Item | C9: Descrição Item | D9: Fornecedor de Origem | E9: Destino | F9: NCM | G9: IRPJ | H9: ICMS | I9: PIS / COFINS | J9: ICMS-ST | K9: IPI | L9: PIS / CONFINS Tributação | N9: Preço s/ Impostos | O9: Preço com Impostos PIS, CONFINS, ICMS | P9: Preço com Impostos PIS, CONFINS, ICMS, IPI | Q9: CMV CALCULADO | R9: CHECK FOB | S9: CMV ACUMULADO + FRETE | U9: ICMS INTERNO - SP | V9: ICMS-ST % FINAL SP | W9: T_PREÇO MAESTRAL R$ | X9: Desc PDV | Y9: MARK-UP EDITAVEL | Z9: PREÇO PDV CALCULADO | AA9: PREÇO PDV EDITAVEL | AB9: CHECK PDV | AC9: CHECK MANUAL TP MAE | AD9: MARGEM MARKETING | AF9: Descrição Item | AG9: NCM | AH9: Origem | AI9: ICMS Tributação | AJ9: IPI Tributação | AK9: IPI % | AL9: ICMS % | AM9: ICMS-ST % FINAL SP | AN9: P/C % | AO9: DESC % | AP9: COM. % | AQ9: FRETE % | AR9: MKT % | AS9: CMV R$ | AT9: TP Belliz R$ | AU9: PV BASE | AV9: PV c/ DESC R$ | AW9: IMPOSTOS R$ | AX9: RECEITA LÍQUIDA R$ | AY9: COMISSÃO R$ | AZ9: FRETE R$ | BA9: MKT R$ | BB9: MC R$ | BC9: MC 3 % | BE9: Check MC R$ | BF9: Check MC %
C10: =IF(PREÇOS!B11="","-",PREÇOS!B11) -> - | AF10: =IF(PREÇOS!AE11="","-",PREÇOS!AE11) -> - | AG10: =F10 -> 0 | AK10: =K10 -> 0 | AM10: =J10 -> 0 | AN10: =I10 -> 0 | AO10: =1-0.85*0.9 -> 0.235 | AS10: =S10 -> 0 | AT10: =IF(AM10>0,((AA10/Y10)/(1-X10))/(1+(AM10+AK10)),((((AA10/Y10)/(1-X10))/(1+AK10))*(1-U10))/(1-AL10)) -> #DIV/0! | AU10: =(AT10*(1-AO10))*(1+AK10) -> #DIV/0! | AV10: =AT10*(1-AO10) -> #DIV/0! | AW10: =AV10*(AL10+AN10) -> #DIV/0! | AX10: =AV10-AW10 -> #DIV/0! | AY10: =AV10*AP10 -> #DIV/0! | AZ10: =IF($AH10="importado",AU10*AQ10,$AV10*AQ10) -> #DIV/0! | BA10: =IF($AH10="importado",AU10*AR10,$AV10*AR10) -> #DIV/0! | BB10: =AV10-AW10-AY10-AS10-AZ10-BA10 -> #DIV/0! | BC10: =IF(AH10="Importado",BB10/AU10,BB10/AV10) -> #DIV/0! | BE10: =((AU10*(1-23.5%))*(1-(4%+12.5%))-(AU10*(1-23.5%))*(5%)-((AU10*(1-23.5%)))*(1+7%)*(4%+8%)-(T10))-BC10 -> #DIV/0! | BF10: =((AU10*(1-23.5%))*(1-(4%+12.5%))-(AU10*(1-23.5%))*(5%)-((AU10*(1-23.5%)))*(1+7%)*(4%+8%)-(T10))/AV10-BD10 -> #DIV/0! | BH10: =AX10/AW10 -> #DIV/0! | BI10: =AZ10/AW10 -> #DIV/0! | BJ10: =IF(AI10="importado",BA10/AV10,BA10/AW10) -> #DIV/0! | BK10: =IF(AI10="importado",BB10/AV10,BB10/AW10) -> #DIV/0!
C11: =IF(PREÇOS!B12="","-",PREÇOS!B12) -> - | AF11: =IF(PREÇOS!AE12="","-",PREÇOS!AE12) -> - | AG11: =F11 -> 0 | AK11: =K11 -> 0 | AM11: =J11 -> 0 | AN11: =I11 -> 0 | AO11: =1-0.85*0.9 -> 0.235 | AS11: =S11 -> 0 | AT11: =IF(AM11>0,((AA11/Y11)/(1-X11))/(1+(AM11+AK11)),((((AA11/Y11)/(1-X11))/(1+AK11))*(1-U11))/(1-AL11)) -> #DIV/0! | AU11: =(AT11*(1-AO11))*(1+AK11) -> #DIV/0! | AV11: =AT11*(1-AO11) -> #DIV/0! | AW11: =AV11*(AL11+AN11) -> #DIV/0! | AX11: =AV11-AW11 -> #DIV/0! | AY11: =AV11*AP11 -> #DIV/0! | AZ11: =IF($AH11="importado",AU11*AQ11,$AV11*AQ11) -> #DIV/0! | BA11: =IF($AH11="importado",AU11*AR11,$AV11*AR11) -> #DIV/0! | BB11: =AV11-AW11-AY11-AS11-AZ11-BA11 -> #DIV/0! | BC11: =IF(AH11="Importado",BB11/AU11,BB11/AV11) -> #DIV/0! | BE11: =((AU11*(1-23.5%))*(1-(4%+12.5%))-(AU11*(1-23.5%))*(5%)-((AU11*(1-23.5%)))*(1+7%)*(4%+8%)-(T11))-BC11 -> #DIV/0! | BF11: =((AU11*(1-23.5%))*(1-(4%+12.5%))-(AU11*(1-23.5%))*(5%)-((AU11*(1-23.5%)))*(1+7%)*(4%+8%)-(T11))/AV11-BD11 -> #DIV/0! | BH11: =AX11/AW11 -> #DIV/0! | BI11: =AZ11/AW11 -> #DIV/0! | BJ11: =IF(AI11="importado",BA11/AV11,BA11/AW11) -> #DIV/0! | BK11: =IF(AI11="importado",BB11/AV11,BB11/AW11) -> #DIV/0!
C12: =IF(PREÇOS!B13="","-",PREÇOS!B13) -> - | AF12: =IF(PREÇOS!AE13="","-",PREÇOS!AE13) -> - | AG12: =F12 -> 0 | AK12: =K12 -> 0 | AM12: =J12 -> 0 | AN12: =I12 -> 0 | AO12: =1-0.85*0.9 -> 0.235 | AS12: =S12 -> 0 | AT12: =IF(AM12>0,((AA12/Y12)/(1-X12))/(1+(AM12+AK12)),((((AA12/Y12)/(1-X12))/(1+AK12))*(1-U12))/(1-AL12)) -> #DIV/0! | AU12: =(AT12*(1-AO12))*(1+AK12) -> #DIV/0! | AV12: =AT12*(1-AO12) -> #DIV/0! | AW12: =AV12*(AL12+AN12) -> #DIV/0! | AX12: =AV12-AW12 -> #DIV/0! | AY12: =AV12*AP12 -> #DIV/0! | AZ12: =IF($AH12="importado",AU12*AQ12,$AV12*AQ12) -> #DIV/0! | BA12: =IF($AH12="importado",AU12*AR12,$AV12*AR12) -> #DIV/0! | BB12: =AV12-AW12-AY12-AS12-AZ12-BA12 -> #DIV/0! | BC12: =IF(AH12="Importado",BB12/AU12,BB12/AV12) -> #DIV/0! | BE12: =((AU12*(1-23.5%))*(1-(4%+12.5%))-(AU12*(1-23.5%))*(5%)-((AU12*(1-23.5%)))*(1+22%)*(4%+8%)-(T12))-BC12 -> #DIV/0! | BF12: =((AU12*(1-23.5%))*(1-(4%+12.5%))-(AU12*(1-23.5%))*(5%)-((AU12*(1-23.5%)))*(1+22%)*(4%+8%)-(T12))/AV12-BD12 -> #DIV/0! | BH12: =AX12/AW12 -> #DIV/0! | BI12: =AZ12/AW12 -> #DIV/0! | BJ12: =IF(AI12="importado",BA12/AV12,BA12/AW12) -> #DIV/0! | BK12: =IF(AI12="importado",BB12/AV12,BB12/AW12) -> #DIV/0!
C13: =IF(PREÇOS!B14="","-",PREÇOS!B14) -> - | AF13: =IF(PREÇOS!AE14="","-",PREÇOS!AE14) -> - | AG13: =F13 -> 0 | AK13: =K13 -> 0 | AM13: =J13 -> 0 | AN13: =I13 -> 0 | AO13: =1-0.85*0.9 -> 0.235 | AS13: =S13 -> 0 | AT13: =IF(AM13>0,((AA13/Y13)/(1-X13))/(1+(AM13+AK13)),((((AA13/Y13)/(1-X13))/(1+AK13))*(1-U13))/(1-AL13)) -> #DIV/0! | AU13: =(AT13*(1-AO13))*(1+AK13) -> #DIV/0! | AV13: =AT13*(1-AO13) -> #DIV/0! | AW13: =AV13*(AL13+AN13) -> #DIV/0! | AX13: =AV13-AW13 -> #DIV/0! | AY13: =AV13*AP13 -> #DIV/0! | AZ13: =IF($AH13="importado",AU13*AQ13,$AV13*AQ13) -> #DIV/0! | BA13: =IF($AH13="importado",AU13*AR13,$AV13*AR13) -> #DIV/0! | BB13: =AV13-AW13-AY13-AS13-AZ13-BA13 -> #DIV/0! | BC13: =IF(AH13="Importado",BB13/AU13,BB13/AV13) -> #DIV/0! | BE13: =((AU13*(1-23.5%))*(1-(4%+12.5%))-(AU13*(1-23.5%))*(5%)-((AU13*(1-23.5%)))*(1+22%)*(4%+8%)-(T13))-BC13 -> #DIV/0! | BF13: =((AU13*(1-23.5%))*(1-(4%+12.5%))-(AU13*(1-23.5%))*(5%)-((AU13*(1-23.5%)))*(1+22%)*(4%+8%)-(T13))/AV13-BD13 -> #DIV/0! | BH13: =AX13/AW13 -> #DIV/0! | BI13: =AZ13/AW13 -> #DIV/0! | BJ13: =IF(AI13="importado",BA13/AV13,BA13/AW13) -> #DIV/0! | BK13: =IF(AI13="importado",BB13/AV13,BB13/AW13) -> #DIV/0!
C14: =IF(PREÇOS!B23="","-",PREÇOS!B23) -> - | AF14: =IF(PREÇOS!AE23="","-",PREÇOS!AE23) -> - | AG14: =F14 -> 0 | AK14: =K14 -> 0 | AM14: =J14 -> 0 | AN14: =I14 -> 0 | AO14: =1-0.85*0.9 -> 0.235 | AS14: =S14 -> 0 | AT14: =IF(AM14>0,((AA14/Y14)/(1-X14))/(1+(AM14+AK14)),((((AA14/Y14)/(1-X14))/(1+AK14))*(1-U14))/(1-AL14)) -> #DIV/0! | AU14: =(AT14*(1-AO14))*(1+AK14) -> #DIV/0! | AV14: =AT14*(1-AO14) -> #DIV/0! | AW14: =AV14*(AL14+AN14) -> #DIV/0! | AX14: =AV14-AW14 -> #DIV/0! | AY14: =AV14*AP14 -> #DIV/0! | AZ14: =IF($AH14="importado",AU14*AQ14,$AV14*AQ14) -> #DIV/0! | BA14: =IF($AH14="importado",AU14*AR14,$AV14*AR14) -> #DIV/0! | BB14: =AV14-AW14-AY14-AS14-AZ14-BA14 -> #DIV/0! | BC14: =IF(AH14="Importado",BB14/AU14,BB14/AV14) -> #DIV/0! | BE14: =((AU14*(1-23.5%))*(1-(4%+12.5%))-(AU14*(1-23.5%))*(5%)-((AU14*(1-23.5%)))*(1+22%)*(4%+8%)-(T14))-BC14 -> #DIV/0! | BF14: =((AU14*(1-23.5%))*(1-(4%+12.5%))-(AU14*(1-23.5%))*(5%)-((AU14*(1-23.5%)))*(1+22%)*(4%+8%)-(T14))/AV14-BD14 -> #DIV/0! | BH14: =AX14/AW14 -> #DIV/0! | BI14: =AZ14/AW14 -> #DIV/0! | BJ14: =IF(AI14="importado",BA14/AV14,BA14/AW14) -> #DIV/0! | BK14: =IF(AI14="importado",BB14/AV14,BB14/AW14) -> #DIV/0!
C15: =IF(PREÇOS!B24="","-",PREÇOS!B24) -> - | AF15: =IF(PREÇOS!AE24="","-",PREÇOS!AE24) -> - | AG15: =F15 -> 0 | AK15: =K15 -> 0 | AM15: =J15 -> 0 | AN15: =I15 -> 0 | AO15: =1-0.85*0.9 -> 0.235 | AS15: =S15 -> 0 | AT15: =IF(AM15>0,((AA15/Y15)/(1-X15))/(1+(AM15+AK15)),((((AA15/Y15)/(1-X15))/(1+AK15))*(1-U15))/(1-AL15)) -> #DIV/0! | AU15: =(AT15*(1-AO15))*(1+AK15) -> #DIV/0! | AV15: =AT15*(1-AO15) -> #DIV/0! | AW15: =AV15*(AL15+AN15) -> #DIV/0! | AX15: =AV15-AW15 -> #DIV/0! | AY15: =AV15*AP15 -> #DIV/0! | AZ15: =IF($AH15="importado",AU15*AQ15,$AV15*AQ15) -> #DIV/0! | BA15: =IF($AH15="importado",AU15*AR15,$AV15*AR15) -> #DIV/0! | BB15: =AV15-AW15-AY15-AS15-AZ15-BA15 -> #DIV/0! | BC15: =IF(AH15="Importado",BB15/AU15,BB15/AV15) -> #DIV/0! | BE15: =((AU15*(1-23.5%))*(1-(4%+12.5%))-(AU15*(1-23.5%))*(5%)-((AU15*(1-23.5%)))*(1+22%)*(4%+8%)-(T15))-BC15 -> #DIV/0! | BF15: =((AU15*(1-23.5%))*(1-(4%+12.5%))-(AU15*(1-23.5%))*(5%)-((AU15*(1-23.5%)))*(1+22%)*(4%+8%)-(T15))/AV15-BD15 -> #DIV/0! | BH15: =AX15/AW15 -> #DIV/0! | BI15: =AZ15/AW15 -> #DIV/0! | BJ15: =IF(AI15="importado",BA15/AV15,BA15/AW15) -> #DIV/0! | BK15: =IF(AI15="importado",BB15/AV15,BB15/AW15) -> #DIV/0!
C16: =IF(PREÇOS!B25="","-",PREÇOS!B25) -> - | AF16: =IF(PREÇOS!AE25="","-",PREÇOS!AE25) -> - | AK16: =K16 -> 0 | AM16: =J16 -> 0 | AN16: =I16 -> 0 | AO16: =1-0.85*0.9 -> 0.235 | AS16: =S16 -> 0
C17: =IF(PREÇOS!B26="","-",PREÇOS!B26) -> - | AF17: =IF(PREÇOS!AE26="","-",PREÇOS!AE26) -> - | AG17: =F17 -> 0 | AK17: =K17 -> 0 | AM17: =J17 -> 0 | AN17: =I17 -> 0 | AO17: =1-0.85*0.9 -> 0.235 | AS17: =S17 -> 0 | AT17: =IF(AM17>0,((AA17/Y17)/(1-X17))/(1+(AM17+AK17)),((((AA17/Y17)/(1-X17))/(1+AK17))*(1-U17))/(1-AL17)) -> #DIV/0! | AU17: =(AT17*(1-AO17))*(1+AK17) -> #DIV/0! | AV17: =AT17*(1-AO17) -> #DIV/0! | AW17: =AV17*(AL17+AN17) -> #DIV/0! | AX17: =AV17-AW17 -> #DIV/0! | AY17: =AV17*AP17 -> #DIV/0! | AZ17: =IF($AH17="importado",AU17*AQ17,$AV17*AQ17) -> #DIV/0! | BA17: =IF($AH17="importado",AU17*AR17,$AV17*AR17) -> #DIV/0! | BB17: =AV17-AW17-AY17-AS17-AZ17-BA17 -> #DIV/0! | BC17: =IF(AH17="Importado",BB17/AU17,BB17/AV17) -> #DIV/0! | BE17: =((AU17*(1-23.5%))*(1-(12%))-(AU17*(1-23.5%))*(5%)-((AU17*(1-23.5%)))*(1+0%)*(4%+8%)-(T17))-BC17 -> #DIV/0! | BF17: =((AU17*(1-23.5%))*(1-(12%))-(AU17*(1-23.5%))*(5%)-((AU17*(1-23.5%)))*(1+0%)*(4%+8%)-(T17))/AV17-BD17 -> #DIV/0! | BH17: =AX17/AW17 -> #DIV/0! | BI17: =AZ17/AW17 -> #DIV/0! | BJ17: =IF(AI17="importado",BA17/AV17,BA17/AW17) -> #DIV/0! | BK17: =IF(AI17="importado",BB17/AV17,BB17/AW17) -> #DIV/0!
C18: =IF(PREÇOS!B27="","-",PREÇOS!B27) -> - | AF18: =IF(PREÇOS!AE27="","-",PREÇOS!AE27) -> - | AG18: =F18 -> 0 | AK18: =K18 -> 0 | AM18: =J18 -> 0 | AN18: =I18 -> 0 | AO18: =1-0.85*0.9 -> 0.235 | AS18: =S18 -> 0 | AT18: =IF(AM18>0,((AA18/Y18)/(1-X18))/(1+(AM18+AK18)),((((AA18/Y18)/(1-X18))/(1+AK18))*(1-U18))/(1-AL18)) -> #DIV/0! | AU18: =(AT18*(1-AO18))*(1+AK18) -> #DIV/0! | AV18: =AT18*(1-AO18) -> #DIV/0! | AW18: =AV18*(AL18+AN18) -> #DIV/0! | AX18: =AV18-AW18 -> #DIV/0! | AY18: =AV18*AP18 -> #DIV/0! | AZ18: =IF($AH18="importado",AU18*AQ18,$AV18*AQ18) -> #DIV/0! | BA18: =IF($AH18="importado",AU18*AR18,$AV18*AR18) -> #DIV/0! | BB18: =AV18-AW18-AY18-AS18-AZ18-BA18 -> #DIV/0! | BC18: =IF(AH18="Importado",BB18/AU18,BB18/AV18) -> #DIV/0! | BE18: =((AU18*(1-23.5%))*(1-(12%))-(AU18*(1-23.5%))*(5%)-((AU18*(1-23.5%)))*(1+0%)*(4%+8%)-(T18))-BC18 -> #DIV/0! | BF18: =((AU18*(1-23.5%))*(1-(12%))-(AU18*(1-23.5%))*(5%)-((AU18*(1-23.5%)))*(1+0%)*(4%+8%)-(T18))/AV18-BD18 -> #DIV/0! | BH18: =AX18/AW18 -> #DIV/0! | BI18: =AZ18/AW18 -> #DIV/0! | BJ18: =IF(AI18="importado",BA18/AV18,BA18/AW18) -> #DIV/0! | BK18: =IF(AI18="importado",BB18/AV18,BB18/AW18) -> #DIV/0!
C19: =IF(PREÇOS!B28="","-",PREÇOS!B28) -> - | AF19: =IF(PREÇOS!AE28="","-",PREÇOS!AE28) -> - | AG19: =F19 -> 0 | AK19: =K19 -> 0 | AM19: =J19 -> 0 | AN19: =I19 -> 0 | AO19: =1-0.85*0.9 -> 0.235 | AS19: =S19 -> 0 | AT19: =IF(AM19>0,((AA19/Y19)/(1-X19))/(1+(AM19+AK19)),((((AA19/Y19)/(1-X19))/(1+AK19))*(1-U19))/(1-AL19)) -> #DIV/0! | AU19: =(AT19*(1-AO19))*(1+AK19) -> #DIV/0! | AV19: =AT19*(1-AO19) -> #DIV/0! | AW19: =AV19*(AL19+AN19) -> #DIV/0! | AX19: =AV19-AW19 -> #DIV/0! | AY19: =AV19*AP19 -> #DIV/0! | AZ19: =IF($AH19="importado",AU19*AQ19,$AV19*AQ19) -> #DIV/0! | BA19: =IF($AH19="importado",AU19*AR19,$AV19*AR19) -> #DIV/0! | BB19: =AV19-AW19-AY19-AS19-AZ19-BA19 -> #DIV/0! | BC19: =IF(AH19="Importado",BB19/AU19,BB19/AV19) -> #DIV/0! | BE19: =((AU19*(1-23.5%))*(1-(12%))-(AU19*(1-23.5%))*(5%)-((AU19*(1-23.5%)))*(1+0%)*(4%+8%)-(T19))-BC19 -> #DIV/0! | BF19: =((AU19*(1-23.5%))*(1-(12%))-(AU19*(1-23.5%))*(5%)-((AU19*(1-23.5%)))*(1+0%)*(4%+8%)-(T19))/AV19-BD19 -> #DIV/0! | BH19: =AX19/AW19 -> #DIV/0! | BI19: =AZ19/AW19 -> #DIV/0! | BJ19: =IF(AI19="importado",BA19/AV19,BA19/AW19) -> #DIV/0! | BK19: =IF(AI19="importado",BB19/AV19,BB19/AW19) -> #DIV/0!
C20: =IF(PREÇOS!B29="","-",PREÇOS!B29) -> - | AF20: =IF(PREÇOS!AE29="","-",PREÇOS!AE29) -> - | AG20: =F20 -> 0 | AK20: =K20 -> 0 | AM20: =J20 -> 0 | AN20: =I20 -> 0 | AO20: =1-0.85*0.9 -> 0.235 | AS20: =S20 -> 0 | AT20: =IF(AM20>0,((AA20/Y20)/(1-X20))/(1+(AM20+AK20)),((((AA20/Y20)/(1-X20))/(1+AK20))*(1-U20))/(1-AL20)) -> #DIV/0! | AU20: =(AT20*(1-AO20))*(1+AK20) -> #DIV/0! | AV20: =AT20*(1-AO20) -> #DIV/0! | AW20: =AV20*(AL20+AN20) -> #DIV/0! | AX20: =AV20-AW20 -> #DIV/0! | AY20: =AV20*AP20 -> #DIV/0! | AZ20: =IF($AH20="importado",AU20*AQ20,$AV20*AQ20) -> #DIV/0! | BA20: =IF($AH20="importado",AU20*AR20,$AV20*AR20) -> #DIV/0! | BB20: =AV20-AW20-AY20-AS20-AZ20-BA20 -> #DIV/0! | BC20: =IF(AH20="Importado",BB20/AU20,BB20/AV20) -> #DIV/0! | BE20: =((AU20*(1-23.5%))*(1-(12%))-(AU20*(1-23.5%))*(5%)-((AU20*(1-23.5%)))*(1+0%)*(4%+8%)-(T20))-BC20 -> #DIV/0! | BF20: =((AU20*(1-23.5%))*(1-(12%))-(AU20*(1-23.5%))*(5%)-((AU20*(1-23.5%)))*(1+0%)*(4%+8%)-(T20))/AV20-BD20 -> #DIV/0! | BH20: =AX20/AW20 -> #DIV/0! | BI20: =AZ20/AW20 -> #DIV/0! | BJ20: =IF(AI20="importado",BA20/AV20,BA20/AW20) -> #DIV/0! | BK20: =IF(AI20="importado",BB20/AV20,BB20/AW20) -> #DIV/0!
C21: =IF(PREÇOS!B30="","-",PREÇOS!B30) -> - | AF21: =IF(PREÇOS!AE30="","-",PREÇOS!AE30) -> - | AG21: =F21 -> 0 | AK21: =K21 -> 0 | AM21: =J21 -> 0 | AN21: =I21 -> 0 | AO21: =1-0.85*0.9 -> 0.235 | AS21: =S21 -> 0 | AT21: =IF(AM21>0,((AA21/Y21)/(1-X21))/(1+(AM21+AK21)),((((AA21/Y21)/(1-X21))/(1+AK21))*(1-U21))/(1-AL21)) -> #DIV/0! | AU21: =(AT21*(1-AO21))*(1+AK21) -> #DIV/0! | AV21: =AT21*(1-AO21) -> #DIV/0! | AW21: =AV21*(AL21+AN21) -> #DIV/0! | AX21: =AV21-AW21 -> #DIV/0! | AY21: =AV21*AP21 -> #DIV/0! | AZ21: =IF($AH21="importado",AU21*AQ21,$AV21*AQ21) -> #DIV/0! | BA21: =IF($AH21="importado",AU21*AR21,$AV21*AR21) -> #DIV/0! | BB21: =AV21-AW21-AY21-AS21-AZ21-BA21 -> #DIV/0! | BC21: =IF(AH21="Importado",BB21/AU21,BB21/AV21) -> #DIV/0! | BE21: =((AU21*(1-23.5%))*(1-(12%))-(AU21*(1-23.5%))*(5%)-((AU21*(1-23.5%)))*(1+0%)*(4%+8%)-(T21))-BC21 -> #DIV/0! | BF21: =((AU21*(1-23.5%))*(1-(12%))-(AU21*(1-23.5%))*(5%)-((AU21*(1-23.5%)))*(1+0%)*(4%+8%)-(T21))/AV21-BD21 -> #DIV/0! | BH21: =AX21/AW21 -> #DIV/0! | BI21: =AZ21/AW21 -> #DIV/0! | BJ21: =IF(AI21="importado",BA21/AV21,BA21/AW21) -> #DIV/0! | BK21: =IF(AI21="importado",BB21/AV21,BB21/AW21) -> #DIV/0!
C22: =IF(PREÇOS!B31="","-",PREÇOS!B31) -> - | AF22: =IF(PREÇOS!AE31="","-",PREÇOS!AE31) -> - | AG22: =F22 -> 0 | AK22: =K22 -> 0 | AM22: =J22 -> 0 | AN22: =I22 -> 0 | AO22: =1-0.85*0.9 -> 0.235 | AS22: =S22 -> 0 | AT22: =IF(AM22>0,((AA22/Y22)/(1-X22))/(1+(AM22+AK22)),((((AA22/Y22)/(1-X22))/(1+AK22))*(1-U22))/(1-AL22)) -> #DIV/0! | AU22: =(AT22*(1-AO22))*(1+AK22) -> #DIV/0! | AV22: =AT22*(1-AO22) -> #DIV/0! | AW22: =AV22*(AL22+AN22) -> #DIV/0! | AX22: =AV22-AW22 -> #DIV/0! | AY22: =AV22*AP22 -> #DIV/0! | AZ22: =IF($AH22="importado",AU22*AQ22,$AV22*AQ22) -> #DIV/0! | BA22: =IF($AH22="importado",AU22*AR22,$AV22*AR22) -> #DIV/0! | BB22: =AV22-AW22-AY22-AS22-AZ22-BA22 -> #DIV/0! | BC22: =IF(AH22="Importado",BB22/AU22,BB22/AV22) -> #DIV/0! | BE22: =((AU22*(1-23.5%))*(1-(12%))-(AU22*(1-23.5%))*(5%)-((AU22*(1-23.5%)))*(1+0%)*(4%+8%)-(T22))-BC22 -> #DIV/0! | BF22: =((AU22*(1-23.5%))*(1-(12%))-(AU22*(1-23.5%))*(5%)-((AU22*(1-23.5%)))*(1+0%)*(4%+8%)-(T22))/AV22-BD22 -> #DIV/0! | BH22: =AX22/AW22 -> #DIV/0! | BI22: =AZ22/AW22 -> #DIV/0! | BJ22: =IF(AI22="importado",BA22/AV22,BA22/AW22) -> #DIV/0! | BK22: =IF(AI22="importado",BB22/AV22,BB22/AW22) -> #DIV/0!
C23: =IF(PREÇOS!B32="","-",PREÇOS!B32) -> - | AF23: =IF(PREÇOS!AE32="","-",PREÇOS!AE32) -> - | AK23: =K23 -> 0 | AM23: =J23 -> 0 | AN23: =I23 -> 0 | AO23: =1-0.85*0.9 -> 0.235 | AS23: =S23 -> 0
C24: =IF(PREÇOS!B33="","-",PREÇOS!B33) -> - | AF24: =IF(PREÇOS!AE33="","-",PREÇOS!AE33) -> - | AK24: =K24 -> 0 | AM24: =J24 -> 0 | AN24: =I24 -> 0 | AO24: =1-0.85*0.9 -> 0.235 | AS24: =S24 -> 0
C25: =IF(PREÇOS!B34="","-",PREÇOS!B34) -> - | AF25: =IF(PREÇOS!AE34="","-",PREÇOS!AE34) -> - | AK25: =K25 -> 0 | AM25: =J25 -> 0 | AN25: =I25 -> 0 | AO25: =1-0.85*0.9 -> 0.235 | AS25: =S25 -> 0
C26: =IF(PREÇOS!B27="","-",PREÇOS!B27) -> - | AF26: =IF(PREÇOS!AE35="","-",PREÇOS!AE35) -> - | AK26: =K26 -> 0 | AM26: =J26 -> 0 | AN26: =I26 -> 0 | AO26: =1-0.85*0.9 -> 0.235 | AS26: =S26 -> 0
C27: =IF(PREÇOS!B28="","-",PREÇOS!B28) -> - | AF27: =IF(PREÇOS!AE36="","-",PREÇOS!AE36) -> - | AK27: =K27 -> 0 | AM27: =J27 -> 0 | AN27: =I27 -> 0 | AO27: =1-0.85*0.9 -> 0.235 | AS27: =S27 -> 0
C28: =IF(PREÇOS!B29="","-",PREÇOS!B29) -> - | AF28: =IF(PREÇOS!AE37="","-",PREÇOS!AE37) -> - | AK28: =K28 -> 0 | AM28: =J28 -> 0 | AN28: =I28 -> 0 | AO28: =1-0.85*0.9 -> 0.235 | AS28: =S28 -> 0
C29: =IF(PREÇOS!B30="","-",PREÇOS!B30) -> - | AF29: =IF(PREÇOS!AE38="","-",PREÇOS!AE38) -> - | AK29: =K29 -> 0 | AM29: =J29 -> 0 | AN29: =I29 -> 0 | AO29: =1-0.85*0.9 -> 0.235 | AS29: =S29 -> 0
C30: =IF(PREÇOS!B31="","-",PREÇOS!B31) -> - | AF30: =IF(PREÇOS!AE39="","-",PREÇOS!AE39) -> - | AK30: =K30 -> 0 | AM30: =J30 -> 0 | AN30: =I30 -> 0 | AO30: =1-0.85*0.9 -> 0.235 | AS30: =S30 -> 0

Sheet TRIBUTAÇÃO
D2: FORMULÁRIO
D3: PREVIABILIDADE FINANCEIRA - TRIBUTAÇÃO | AK3: Identificação
AK4: FOR-MKT-002
AK5: Versão
AK6: 1
X8: VENDA (BELLIZ PARA MAESTRAL)
B9: Importado | I9: Tributação Importação | M9: Impostos -Venda Belliz para SP | R9: Cálculo MVA Ajustada | X9: Cálculo da ST Final
B10: UF Origem (Estrangeira) | C10: UF Destino (ES) | D10: NCM | E10: Projeto | F10: Descrição do Produto | G10: Descrição TIPI | H10: Valor Base | I10: I.I | J10: PIS Imp. | K10: COFINS Imp. | L10: IPI | M10: Red. Bs ICMS-OP | N10: Bs do ICMS-OP | O10: Aliquota Destaque | P10: Aliquota Efetiva | R10: MVA Original | S10: Aliq interes | T10: Aliq destino | U10: MVA Ajustada | X10: Valor Base | Y10: IPI | Z10: PIS | AA10: COFINS | AB10: Red. Bs ICMS-OP | AC10: Bs do ICMS-OP | AD10: Aliquota Destaque | AE10: Aliquota Efetiva | AF10: BC ICMS-ST | AG10: MVA | AH10: Red. Bs ICMS-ST | AI10: Alíquota interna UF destino | AJ10: ICMS -ST devido | AK10: % ST FINAL
E11: =IF(PREÇOS!$C$7="","-",PREÇOS!$C$7) -> - | N11: =H11-(H11*M11) -> 0 | O11: =S11 -> 0 | P11: =N11*O11% -> 0 | U11: =((1+R11%)*(1-S11%)/(1-T11%)-1)*100 -> 0 | AC11: =X11-(X11*AB11) -> 0 | AE11: =AC11*AD11% -> 0 | AH11: =(X11+Y11)*(1+AG11%)-(X11+Y11)*(1+AG11%)*AF11 -> 0 | AJ11: =(AH11%*AI11)-AE11 -> 0 | AK11: =IFERROR(AJ11/X11,"-") -> -
E12: =IF(PREÇOS!$C$7="","-",PREÇOS!$C$7) -> -
E13: =IF(PREÇOS!$C$7="","-",PREÇOS!$C$7) -> -
E14: =IF(PREÇOS!$C$7="","-",PREÇOS!$C$7) -> -
E15: =IF(PREÇOS!$C$7="","-",PREÇOS!$C$7) -> -
E16: =IF(PREÇOS!$C$7="","-",PREÇOS!$C$7) -> -
E17: =IF(PREÇOS!$C$7="","-",PREÇOS!$C$7) -> -
E18: =IF(PREÇOS!$C$7="","-",PREÇOS!$C$7) -> -
E19: =IF(PREÇOS!$C$7="","-",PREÇOS!$C$7) -> -
E20: =IF(PREÇOS!$C$7="","-",PREÇOS!$C$7) -> -
E21: =IF(PREÇOS!$C$7="","-",PREÇOS!$C$7) -> -
E22: =IF(PREÇOS!$C$7="","-",PREÇOS!$C$7) -> -
E23: =IF(PREÇOS!$C$7="","-",PREÇOS!$C$7) -> -
... E26: =IF(PREÇOS!$C$7="","-",PREÇOS!$C$7) -> -
E27: =IF(PREÇOS!$C$7="","-",PREÇOS!$C$7) -> - | N27: =H27-(H27*M27) -> 0 | O27: =S27 -> 0 | P27: =N27*O27% -> 0 | U27: =((1+R27%)*(1-S27%)/(1-T27%)-1)*100 -> 0 | AC27: =X27-(X27*AB27) -> 0 | AE27: =AC27*AD27% -> 0 | AH27: =(X27+Y27)*(1+AG27%)-(X27+Y27)*(1+AG27%)*AF27 -> 0 | AJ27: =(AH27%*AI27)-AE27 -> 0 | AK27: =IFERROR(AJ27/X27,"-") -> -
E28: =IF(PREÇOS!$C$7="","-",PREÇOS!$C$7) -> - | N28: =H28-(H28*M28) -> 0 | O28: =S28 -> 0 | P28: =N28*O28% -> 0 | U28: =((1+R28%)*(1-S28%)/(1-T28%)-1)*100 -> 0 | AC28: =X28-(X28*AB28) -> 0 | AE28: =AC28*AD28% -> 0 | AH28: =(X28+Y28)*(1+AG28%)-(X28+Y28)*(1+AG28%)*AF28 -> 0 | AJ28: =(AH28%*AI28)-AE28 -> 0 | AK28: =IFERROR(AJ28/X28,"-") -> -
E29: =IF(PREÇOS!$C$7="","-",PREÇOS!$C$7) -> - | N29: =H29-(H29*M29) -> 0 | O29: =S29 -> 0 | P29: =N29*O29% -> 0 | U29: =((1+R29%)*(1-S29%)/(1-T29%)-1)*100 -> 0 | AC29: =X29-(X29*AB29) -> 0 | AE29: =AC29*AD29% -> 0 | AH29: =(X29+Y29)*(1+AG29%)-(X29+Y29)*(1+AG29%)*AF29 -> 0 | AJ29: =(AH29%*AI29)-AE29 -> 0 | AK29: =IFERROR(AJ29/X29,"-") -> -
E30: =IF(PREÇOS!$C$7="","-",PREÇOS!$C$7) -> - | N30: =H30-(H30*M30) -> 0 | O30: =S30 -> 0 | P30: =N30*O30% -> 0 | U30: =((1+R30%)*(1-S30%)/(1-T30%)-1)*100 -> 0 | AC30: =X30-(X30*AB30) -> 0 | AE30: =AC30*AD30% -> 0 | AH30: =(X30+Y30)*(1+AG30%)-(X30+Y30)*(1+AG30%)*AF30 -> 0 | AJ30: =(AH30%*AI30)-AE30 -> 0 | AK30: =IFERROR(AJ30/X30,"-") -> -
E31: =IF(PREÇOS!$C$7="","-",PREÇOS!$C$7) -> - | N31: =H31-(H31*M31) -> 0 | O31: =S31 -> 0 | P31: =N31*O31% -> 0 | U31: =((1+R31%)*(1-S31%)/(1-T31%)-1)*100 -> 0 | AC31: =X31-(X31*AB31) -> 0 | AE31: =AC31*AD31% -> 0 | AH31: =(X31+Y31)*(1+AG31%)-(X31+Y31)*(1+AG31%)*AF31 -> 0 | AJ31: =(AH31%*AI31)-AE31 -> 0 | AK31: =IFERROR(AJ31/X31,"-") -> -
B34: Nacional com Conteudo Superior à 40% (tributação de importado) | J34: Tributação - Fornecedor Nacional para Belliz | R34: Cálculo MVA Ajustada | X34: Cálculo da ST Final
B35: UF Origem | C35: UF Destino (ES) | D35: NCM | E35: Projeto | F35: Descrição do Produto | G35: Descrição TIPI | H35: Valor Base | I35: I.I | J35: PIS Compra | K35: COFINS Compra | L35: IPI | M35: Red. Bs ICMS-OP | N35: Bs do ICMS-OP | O35: Aliquota Destaque | P35: Aliquota Efetiva | R35: MVA Original | S35: Aliq interes | T35: Aliq destino | U35: MVA Ajustada | X35: Valor Base | Y35: IPI | Z35: PIS | AA35: COFINS | AB35: Red. Bs ICMS-OP | AC35: Bs do ICMS-OP | AD35: Aliquota Destaque | AE35: Aliquota Efetiva | AF35: BC ICMS-ST | AG35: MVA | AH35: Red. Bs ICMS-ST | AI35: Alíquota interna UF destino | AJ35: ICMS -ST devido | AK35: % ST FINAL
E36: =IF(PREÇOS!$C$7="","-",PREÇOS!$C$7) -> - | N36: =H36-(H36*M36) -> 0 | P36: =N36*O36% -> 0 | U36: =((1+R36%)*(1-S36%)/(1-T36%)-1)*100 -> 0 | Y36: 0 | Z36: 0 | AA36: 0 | AC36: =X36-(X36*AB36) -> 0 | AE36: =AC36*AD36% -> 0 | AG36: =U36 -> 0 | AH36: =(X36+Y36)*(1+AG36%)-(X36+Y36)*(1+AG36%)*AF36 -> 0 | AJ36: =(AH36%*AI36)-AE36 -> 0 | AK36: =IFERROR(AJ36/X36,"-") -> -
E37: =IF(PREÇOS!$C$7="","-",PREÇOS!$C$7) -> -
E38: =IF(PREÇOS!$C$7="","-",PREÇOS!$C$7) -> -
E39: =IF(PREÇOS!$C$7="","-",PREÇOS!$C$7) -> -
E40: =IF(PREÇOS!$C$7="","-",PREÇOS!$C$7) -> -
E41: =IF(PREÇOS!$C$7="","-",PREÇOS!$C$7) -> -
E42: =IF(PREÇOS!$C$7="","-",PREÇOS!$C$7) -> -
E43: =IF(PREÇOS!$C$7="","-",PREÇOS!$C$7) -> -
E44: =IF(PREÇOS!$C$7="","-",PREÇOS!$C$7) -> -
E45: =IF(PREÇOS!$C$7="","-",PREÇOS!$C$7) -> -
E46: =IF(PREÇOS!$C$7="","-",PREÇOS!$C$7) -> -
...
